Name | Last modified | Size | Description | |
---|---|---|---|---|
Parent Directory | - | |||
install-summary.dcf | 07-Jul-2024 00:45 | 248 | ||
install-out.txt | 07-Jul-2024 00:45 | 3.3K | ||
checksrc-summary.dcf | 09-Jul-2024 00:45 | 414 | ||
checksrc-out.txt | 09-Jul-2024 00:45 | 7.1K | ||
buildsrc-summary.dcf | 09-Jul-2024 00:45 | 408 | ||
buildsrc-out.txt | 09-Jul-2024 00:45 | 828 | ||