Name | Last modified | Size | Description | |
---|---|---|---|---|
Parent Directory | - | |||
install-summary.dcf | 27-Jul-2024 00:43 | 270 | ||
buildsrc-summary.dcf | 27-Jul-2024 00:43 | 430 | ||
checksrc-summary.dcf | 27-Jul-2024 00:43 | 453 | ||
buildbin-summary.dcf | 27-Jul-2024 00:43 | 535 | ||
buildsrc-out.txt | 27-Jul-2024 00:43 | 850 | ||
install-out.txt | 27-Jul-2024 00:43 | 3.2K | ||
buildbin-out.txt | 27-Jul-2024 00:43 | 5.2K | ||
checksrc-out.txt | 27-Jul-2024 00:43 | 7.7K | ||