Name | Last modified | Size | Description | |
---|---|---|---|---|
Parent Directory | - | |||
install-out.txt | 06-Jul-2024 00:45 | 673 | ||
install-summary.dcf | 06-Jul-2024 00:45 | 258 | ||
buildsrc-summary.dcf | 09-Jul-2024 00:45 | 419 | ||
buildsrc-out.txt | 09-Jul-2024 00:45 | 853 | ||
checksrc-out.txt | 09-Jul-2024 00:45 | 3.7K | ||
checksrc-summary.dcf | 09-Jul-2024 00:45 | 341 | ||