Index of /checkResults/devel/bioc-LATEST/segmentSeq/raw-results/lconway
Name
Last modified
Size
Description
Parent Directory
-
buildsrc-out.txt
29-Mar-2024 00:40
904
buildsrc-summary.dcf
29-Mar-2024 00:40
348
install-out.txt
29-Mar-2024 00:40
703
install-summary.dcf
29-Mar-2024 00:40
277