Index of /checkResults/devel/bioc-LATEST/scuttle/raw-results/kunpeng2
Name
Last modified
Size
Description
Parent Directory
-
buildsrc-out.txt
30-Apr-2024 00:41
1.3K
buildsrc-summary.dcf
30-Apr-2024 00:41
345
install-out.txt
30-Apr-2024 00:41
75K
install-summary.dcf
30-Apr-2024 00:41
271