Back to Multiple platform build/check report for BioC 3.14
ABCDEFGHIJKLMNOPQR[S]TUVWXYZ

This page was generated on 2021-10-18 12:04:20 -0400 (Mon, 18 Oct 2021).

BUILD results for scran on riesling1

To the developers/maintainers of the scran package:
- Please allow up to 24 hours (and sometimes 48 hours) for your latest push to git@git.bioconductor.org:packages/scran.git to
reflect on this report. See How and When does the builder pull? When will my changes propagate? here for more information.
- Make sure to use the following settings in order to reproduce any error or warning you see on this page.

raw results

Package 1720/2060HostnameOS / ArchINSTALLBUILDCHECKBUILD BIN
scran 1.21.3  (landing page)
Aaron Lun
Snapshot Date: 2021-10-17 14:50:03 -0400 (Sun, 17 Oct 2021)
git_url: https://git.bioconductor.org/packages/scran
git_branch: master
git_last_commit: 259e88d
git_last_commit_date: 2021-08-03 00:04:49 -0400 (Tue, 03 Aug 2021)
nebbiolo2Linux (Ubuntu 20.04.2 LTS) / x86_64  OK    OK    WARNINGS  UNNEEDED, same version is already published
riesling1Windows Server 2019 Standard / x64  OK    OK    WARNINGS    OK  UNNEEDED, same version is already published
merida1macOS 10.14.6 Mojave / x86_64  OK    OK    WARNINGS    NA  

Summary

Package: scran
Version: 1.21.3
Command: chmod a+r scran -R && D:\biocbuild\bbs-3.14-bioc\R\bin\R.exe CMD build --keep-empty-dirs --no-resave-data scran
StartedAt: 2021-10-17 23:04:05 -0400 (Sun, 17 Oct 2021)
EndedAt: 2021-10-17 23:07:35 -0400 (Sun, 17 Oct 2021)
EllapsedTime: 210.1 seconds
RetCode: 0
Status:   OK  
PackageFile: scran_1.21.3.tar.gz
PackageFileSize: 1015 KiB

Command output

##############################################################################
##############################################################################
###
### Running command:
###
###   chmod a+r scran -R && D:\biocbuild\bbs-3.14-bioc\R\bin\R.exe CMD build --keep-empty-dirs --no-resave-data scran
###
##############################################################################
##############################################################################


* checking for file 'scran/DESCRIPTION' ... OK
* preparing 'scran':
* checking DESCRIPTION meta-information ... OK
* cleaning src
* installing the package to build vignettes
* creating vignettes ... OK
* cleaning src
* checking for LF line-endings in source and make files and shell scripts
* checking for empty or unneeded directories
* building 'scran_1.21.3.tar.gz'