Index of /checkResults/devel/bioc-LATEST/scran/raw-results/lconway

[ICO]NameLast modifiedSizeDescription

[DIR]Parent Directory  -  
[TXT]buildbin-out.txt23-Jul-2024 01:45 46K 
[   ]buildbin-summary.dcf23-Jul-2024 01:45 519  
[TXT]buildsrc-out.txt23-Jul-2024 01:45 838  
[   ]buildsrc-summary.dcf23-Jul-2024 01:45 422  
[TXT]checksrc-out.txt23-Jul-2024 01:45 4.2K 
[   ]checksrc-summary.dcf23-Jul-2024 01:45 442  
[TXT]install-out.txt23-Jul-2024 01:45 43K 
[   ]install-summary.dcf23-Jul-2024 01:45 265