Index of /checkResults/devel/bioc-LATEST/scran/raw-results/kunpeng2

[ICO]NameLast modifiedSizeDescription

[DIR]Parent Directory  -  
[   ]install-summary.dcf07-Jul-2024 00:45 244  
[   ]buildsrc-summary.dcf09-Jul-2024 00:45 400  
[   ]checksrc-summary.dcf09-Jul-2024 00:45 403  
[TXT]buildsrc-out.txt09-Jul-2024 00:45 816  
[TXT]checksrc-out.txt09-Jul-2024 00:45 4.3K 
[TXT]install-out.txt07-Jul-2024 00:45 64K