Index of /checkResults/devel/bioc-LATEST/scran/raw-results/kjohnson3

[ICO]NameLast modifiedSizeDescription

[DIR]Parent Directory  -  
[TXT]buildbin-out.txt09-Jul-2024 00:44 46K 
[   ]buildbin-summary.dcf09-Jul-2024 00:44 518  
[TXT]buildsrc-out.txt09-Jul-2024 00:44 838  
[   ]buildsrc-summary.dcf09-Jul-2024 00:44 422  
[TXT]checksrc-out.txt09-Jul-2024 00:44 4.1K 
[   ]checksrc-summary.dcf09-Jul-2024 00:44 442  
[TXT]install-out.txt09-Jul-2024 00:44 43K 
[   ]install-summary.dcf09-Jul-2024 00:44 265