Name | Last modified | Size | Description | |
---|---|---|---|---|
Parent Directory | - | |||
buildbin-out.txt | 12-Jun-2024 04:41 | 1.0K | ||
buildbin-summary.dcf | 12-Jun-2024 04:41 | 492 | ||
buildsrc-out.txt | 12-Jun-2024 04:41 | 879 | ||
buildsrc-summary.dcf | 12-Jun-2024 04:41 | 437 | ||
checksrc-out.txt | 12-Jun-2024 04:41 | 3.7K | ||
checksrc-summary.dcf | 12-Jun-2024 04:41 | 431 | ||
install-out.txt | 12-Jun-2024 04:41 | 959 | ||
install-summary.dcf | 12-Jun-2024 04:41 | 260 | ||