Name | Last modified | Size | Description | |
---|---|---|---|---|
Parent Directory | - | |||
buildsrc-out.txt | 12-Jul-2024 00:59 | 877 | ||
buildsrc-summary.dcf | 12-Jul-2024 00:59 | 412 | ||
checksrc-out.txt | 12-Jul-2024 00:59 | 3.7K | ||
checksrc-summary.dcf | 12-Jul-2024 00:59 | 398 | ||
install-out.txt | 12-Jul-2024 00:59 | 948 | ||
install-summary.dcf | 12-Jul-2024 00:59 | 251 | ||