Index of /checkResults/devel/bioc-LATEST/scp/raw-results/kunpeng2
Name
Last modified
Size
Description
Parent Directory
-
buildsrc-out.txt
09-Jul-2024 00:45
853
buildsrc-summary.dcf
09-Jul-2024 00:45
312
install-out.txt
06-Jul-2024 00:45
595
install-summary.dcf
06-Jul-2024 00:45
241