Name | Last modified | Size | Description | |
---|---|---|---|---|
Parent Directory | - | |||
install-summary.dcf | 09-Jul-2024 00:44 | 261 | ||
install-out.txt | 09-Jul-2024 00:44 | 1.0K | ||
checksrc-summary.dcf | 09-Jul-2024 00:44 | 432 | ||
checksrc-out.txt | 09-Jul-2024 00:44 | 4.5K | ||
buildsrc-summary.dcf | 09-Jul-2024 00:44 | 416 | ||
buildsrc-out.txt | 09-Jul-2024 00:44 | 863 | ||
buildbin-summary.dcf | 09-Jul-2024 00:44 | 506 | ||
buildbin-out.txt | 09-Jul-2024 00:44 | 1.1K | ||