Index of /checkResults/devel/bioc-LATEST/scoreInvHap/raw-results/palomino4

[ICO]NameLast modifiedSizeDescription

[DIR]Parent Directory  -  
[   ]install-summary.dcf18-Aug-2022 00:07 664  
[TXT]install-out.txt18-Aug-2022 00:07 1.9K 
[   ]checksrc-summary.dcf18-Aug-2022 00:07 466  
[TXT]checksrc-out.txt18-Aug-2022 00:07 3.1K 
[   ]buildsrc-summary.dcf18-Aug-2022 00:07 468  
[TXT]buildsrc-out.txt18-Aug-2022 00:07 859  
[   ]buildbin-summary.dcf18-Aug-2022 00:07 557  
[TXT]buildbin-out.txt18-Aug-2022 00:07 1.2K