Index of /checkResults/devel/bioc-LATEST/scoreInvHap/raw-results/lconway

[ICO]NameLast modifiedSizeDescription

[DIR]Parent Directory  -  
[TXT]buildbin-out.txt01-Jul-2022 00:08 1.2K 
[   ]buildbin-summary.dcf01-Jul-2022 00:08 554  
[TXT]buildsrc-out.txt01-Jul-2022 00:08 832  
[   ]buildsrc-summary.dcf01-Jul-2022 00:08 439  
[TXT]checksrc-out.txt01-Jul-2022 00:08 3.2K 
[   ]checksrc-summary.dcf01-Jul-2022 00:08 460  
[TXT]install-out.txt01-Jul-2022 00:08 1.0K 
[   ]install-summary.dcf01-Jul-2022 00:08 277