Index of /checkResults/devel/bioc-LATEST/scoreInvHap/raw-results

[ICO]NameLast modifiedSizeDescription

[DIR]Parent Directory  -  
[DIR]kunpeng2/01-Oct-2023 00:40 -  
[DIR]lconway/01-Oct-2023 00:39 -  
[DIR]nebbiolo2/01-Oct-2023 00:36 -  
[DIR]palomino4/01-Oct-2023 00:38 -  
[   ]info.dcf01-Oct-2023 00:40 286