Back to Multiple platform build/check report for BioC 3.14
ABCDEFGHIJKLMNOPQR[S]TUVWXYZ

This page was generated on 2021-10-23 14:06:44 -0400 (Sat, 23 Oct 2021).

BUILD results for scone on riesling1

To the developers/maintainers of the scone package:
- Please allow up to 24 hours (and sometimes 48 hours) for your latest push to git@git.bioconductor.org:packages/scone.git to
reflect on this report. See How and When does the builder pull? When will my changes propagate? here for more information.
- Make sure to use the following settings in order to reproduce any error or warning you see on this page.

raw results

Package 1733/2083HostnameOS / ArchINSTALLBUILDCHECKBUILD BIN
scone 1.17.2  (landing page)
Davide Risso
Snapshot Date: 2021-10-22 14:50:11 -0400 (Fri, 22 Oct 2021)
git_url: https://git.bioconductor.org/packages/scone
git_branch: master
git_last_commit: 21cbec3
git_last_commit_date: 2021-09-16 05:00:34 -0400 (Thu, 16 Sep 2021)
nebbiolo2Linux (Ubuntu 20.04.2 LTS) / x86_64  OK    OK    OK  UNNEEDED, same version is already published
riesling1Windows Server 2019 Standard / x64  OK    OK    OK    OK  UNNEEDED, same version is already published
merida1macOS 10.14.6 Mojave / x86_64  OK    OK    OK    OK  UNNEEDED, same version is already published

Summary

Package: scone
Version: 1.17.2
Command: chmod a+r scone -R && D:\biocbuild\bbs-3.14-bioc\R\bin\R.exe CMD build --keep-empty-dirs --no-resave-data scone
StartedAt: 2021-10-23 01:32:54 -0400 (Sat, 23 Oct 2021)
EndedAt: 2021-10-23 01:37:38 -0400 (Sat, 23 Oct 2021)
EllapsedTime: 283.9 seconds
RetCode: 0
Status:   OK  
PackageFile: scone_1.17.2.tar.gz
PackageFileSize: 909.1 KiB

Command output

##############################################################################
##############################################################################
###
### Running command:
###
###   chmod a+r scone -R && D:\biocbuild\bbs-3.14-bioc\R\bin\R.exe CMD build --keep-empty-dirs --no-resave-data scone
###
##############################################################################
##############################################################################


* checking for file 'scone/DESCRIPTION' ... OK
* preparing 'scone':
* checking DESCRIPTION meta-information ... OK
* installing the package to build vignettes
* creating vignettes ... OK
* checking for LF line-endings in source and make files and shell scripts
* checking for empty or unneeded directories
* looking to see if a 'data/datalist' file should be added
* building 'scone_1.17.2.tar.gz'