Back to Multiple platform build/check report for BioC 3.14
ABCDEFGHIJKLMNOPQR[S]TUVWXYZ

This page was generated on 2021-10-22 12:04:43 -0400 (Fri, 22 Oct 2021).

BUILD BIN results for scone on riesling1

To the developers/maintainers of the scone package:
- Please allow up to 24 hours (and sometimes 48 hours) for your latest push to git@git.bioconductor.org:packages/scone.git to
reflect on this report. See How and When does the builder pull? When will my changes propagate? here for more information.
- Make sure to use the following settings in order to reproduce any error or warning you see on this page.

raw results

Package 1726/2075HostnameOS / ArchINSTALLBUILDCHECKBUILD BIN
scone 1.17.2  (landing page)
Davide Risso
Snapshot Date: 2021-10-21 14:50:08 -0400 (Thu, 21 Oct 2021)
git_url: https://git.bioconductor.org/packages/scone
git_branch: master
git_last_commit: 21cbec3
git_last_commit_date: 2021-09-16 05:00:34 -0400 (Thu, 16 Sep 2021)
nebbiolo2Linux (Ubuntu 20.04.2 LTS) / x86_64  OK    OK    OK  UNNEEDED, same version is already published
riesling1Windows Server 2019 Standard / x64  OK    OK    OK    OK  UNNEEDED, same version is already published
merida1macOS 10.14.6 Mojave / x86_64  OK    OK    OK    NA  

Summary

Package: scone
Version: 1.17.2
Command: rm -rf scone.buildbin-libdir && mkdir scone.buildbin-libdir && D:\biocbuild\bbs-3.14-bioc\R\bin\R.exe CMD INSTALL --merge-multiarch --build --library=scone.buildbin-libdir scone_1.17.2.tar.gz
StartedAt: 2021-10-22 07:38:40 -0400 (Fri, 22 Oct 2021)
EndedAt: 2021-10-22 07:43:18 -0400 (Fri, 22 Oct 2021)
EllapsedTime: 277.6 seconds
RetCode: 0
Status:   OK  
PackageFile: scone_1.17.2.zip
PackageFileSize: 1.136 MiB

Command output

##############################################################################
##############################################################################
###
### Running command:
###
###   rm -rf scone.buildbin-libdir && mkdir scone.buildbin-libdir && D:\biocbuild\bbs-3.14-bioc\R\bin\R.exe CMD INSTALL --merge-multiarch --build --library=scone.buildbin-libdir scone_1.17.2.tar.gz
###
##############################################################################
##############################################################################



install for i386

* installing *source* package 'scone' ...
** using staged installation
** R
** data
** inst
** byte-compile and prepare package for lazy loading
** help
*** installing help indices
  converting help for package 'scone'
    finding HTML links ... done
    CLR_FN                                  html  
    DESEQ_FN                                html  
    FQ_FN                                   html  
    PSINORM_FN                              html  
    PsiNorm                                 html  
    SCRAN_FN                                html  
    SUM_FN                                  html  
    SconeExperiment-class                   html  
    finding level-2 HTML links ... done

    TMM_FN                                  html  
    UQ_FN                                   html  
    biplot_color                            html  
    biplot_interactive                      html  
    control_genes                           html  
    dot-likfn                               html  
    dot-parse_row                           html  
    dot-pzfn                                html  
    estimate_ziber                          html  
    factor_sample_filter                    html  
    fast_estimate_ziber                     html  
    get_bio                                 html  
    get_design                              html  
    get_negconruv                           html  
    get_normalized                          html  
    get_params                              html  
    get_qc                                  html  
    get_scores                              html  
    impute_expectation                      html  
    impute_null                             html  
    lm_adjust                               html  
    make_design                             html  
    metric_sample_filter                    html  
    scone                                   html  
    sconeReport                             html  
    scone_easybake                          html  
    score_matrix                            html  
    select_methods                          html  
    simple_FNR_params                       html  
** building package indices
** installing vignettes
** testing if installed package can be loaded from temporary location
** testing if installed package can be loaded from final location
** testing if installed package keeps a record of temporary installation path

install for x64

* installing *source* package 'scone' ...
** testing if installed package can be loaded
* MD5 sums
packaged installation of 'scone' as scone_1.17.2.zip
* DONE (scone)