Index of /checkResults/devel/bioc-LATEST/scone/raw-results/nebbiolo1

[ICO]NameLast modifiedSizeDescription

[DIR]Parent Directory  -  
[TXT]buildsrc-out.txt27-Jan-2022 01:06 861  
[   ]buildsrc-summary.dcf27-Jan-2022 01:06 411  
[TXT]checksrc-out.txt27-Jan-2022 01:06 5.6K 
[   ]checksrc-summary.dcf27-Jan-2022 01:06 416  
[TXT]install-out.txt27-Jan-2022 01:06 949  
[   ]install-summary.dcf27-Jan-2022 01:06 255