Name | Last modified | Size | Description | |
---|---|---|---|---|
Parent Directory | - | |||
install-summary.dcf | 07-Jul-2024 00:45 | 243 | ||
install-out.txt | 07-Jul-2024 00:45 | 936 | ||
checksrc-summary.dcf | 04-Jul-2024 00:45 | 397 | ||
checksrc-out.txt | 04-Jul-2024 00:45 | 11K | ||
buildsrc-summary.dcf | 09-Jul-2024 00:45 | 318 | ||
buildsrc-out.txt | 09-Jul-2024 00:45 | 1.1K | ||