Index of /checkResults/devel/bioc-LATEST/scde/raw-results/palomino4

[ICO]NameLast modifiedSizeDescription

[DIR]Parent Directory  -  
[   ]install-summary.dcf12-Jun-2024 04:41 262  
[   ]buildsrc-summary.dcf12-Jun-2024 04:41 439  
[   ]checksrc-summary.dcf12-Jun-2024 04:41 441  
[   ]buildbin-summary.dcf12-Jun-2024 04:41 498  
[TXT]buildsrc-out.txt12-Jun-2024 04:41 766  
[TXT]install-out.txt12-Jun-2024 04:41 5.0K 
[TXT]buildbin-out.txt12-Jun-2024 04:41 5.1K 
[TXT]checksrc-out.txt12-Jun-2024 04:41 32K