Back to Multiple platform build/check report for BioC 3.14
ABCDEFGHIJKLMNOPQR[S]TUVWXYZ

This page was generated on 2021-10-22 12:05:10 -0400 (Fri, 22 Oct 2021).

BUILD results for scde on merida1

To the developers/maintainers of the scde package:
- Please allow up to 24 hours (and sometimes 48 hours) for your latest push to git@git.bioconductor.org:packages/scde.git to
reflect on this report. See How and When does the builder pull? When will my changes propagate? here for more information.
- Make sure to use the following settings in order to reproduce any error or warning you see on this page.

raw results

Package 1713/2075HostnameOS / ArchINSTALLBUILDCHECKBUILD BIN
scde 2.21.0  (landing page)
Jean Fan
Snapshot Date: 2021-10-21 14:50:08 -0400 (Thu, 21 Oct 2021)
git_url: https://git.bioconductor.org/packages/scde
git_branch: master
git_last_commit: ef036d2
git_last_commit_date: 2021-05-19 12:16:38 -0400 (Wed, 19 May 2021)
nebbiolo2Linux (Ubuntu 20.04.2 LTS) / x86_64  OK    OK    WARNINGS  UNNEEDED, same version is already published
riesling1Windows Server 2019 Standard / x64  OK    OK    WARNINGS    OK  UNNEEDED, same version is already published
merida1macOS 10.14.6 Mojave / x86_64  OK    OK    WARNINGS    NA  

Summary

Package: scde
Version: 2.21.0
Command: /Library/Frameworks/R.framework/Resources/bin/R CMD build --keep-empty-dirs --no-resave-data scde
StartedAt: 2021-10-21 22:58:44 -0400 (Thu, 21 Oct 2021)
EndedAt: 2021-10-21 22:58:46 -0400 (Thu, 21 Oct 2021)
EllapsedTime: 1.7 seconds
RetCode: 0
Status:   OK  
PackageFile: scde_2.21.0.tar.gz
PackageFileSize: 1.059 MiB

Command output

##############################################################################
##############################################################################
###
### Running command:
###
###   /Library/Frameworks/R.framework/Resources/bin/R CMD build --keep-empty-dirs --no-resave-data scde
###
##############################################################################
##############################################################################


* checking for file ‘scde/DESCRIPTION’ ... OK
* preparing ‘scde’:
* checking DESCRIPTION meta-information ... OK
* cleaning src
* checking for LF line-endings in source and make files and shell scripts
* checking for empty or unneeded directories
* building ‘scde_2.21.0.tar.gz’