Name | Last modified | Size | Description | |
---|---|---|---|---|
Parent Directory | - | |||
buildbin-out.txt | 17-Jul-2024 00:41 | 1.1K | ||
buildbin-summary.dcf | 17-Jul-2024 00:41 | 533 | ||
buildsrc-out.txt | 17-Jul-2024 00:41 | 892 | ||
buildsrc-summary.dcf | 17-Jul-2024 00:41 | 466 | ||
checksrc-out.txt | 17-Jul-2024 00:41 | 5.0K | ||
checksrc-summary.dcf | 17-Jul-2024 00:41 | 467 | ||
install-out.txt | 17-Jul-2024 00:41 | 971 | ||
install-summary.dcf | 17-Jul-2024 00:41 | 278 | ||