Back to Multiple platform build/check report for BioC 3.15
ABCDEFGHIJKLMNOPQR[S]TUVWXYZ

This page was generated on 2022-01-17 11:08:22 -0500 (Mon, 17 Jan 2022).

HostnameOSArch (*)R versionInstalled pkgs
nebbiolo1Linux (Ubuntu 20.04.4 LTS)x86_64R Under development (unstable) (2022-01-05 r81451) -- "Unsuffered Consequences" 4161
riesling1Windows Server 2019 Standardx64R Under development (unstable) (2021-11-21 r81221) -- "Unsuffered Consequences" 4056
palomino3Windows Server 2022 Datacenterx64R Under development (unstable) (2021-12-21 r81400 ucrt) -- "Unsuffered Consequences" 3998
merida1macOS 10.14.6 Mojavex86_64R Under development (unstable) (2022-01-05 r81451) -- "Unsuffered Consequences" 4115
Click on any hostname to see more info about the system (e.g. compilers)      (*) as reported by 'uname -p', except on Windows and Mac OS X

CHECK results for scTensor on riesling1


To the developers/maintainers of the scTensor package:
- Please allow up to 24 hours (and sometimes 48 hours) for your latest push to git@git.bioconductor.org:packages/scTensor.git to
reflect on this report. See How and When does the builder pull? When will my changes propagate? here for more information.
- Make sure to use the following settings in order to reproduce any error or warning you see on this page.

raw results

Package 1741/2074HostnameOS / ArchINSTALLBUILDCHECKBUILD BIN
scTensor 2.5.1  (landing page)
Koki Tsuyuzaki
Snapshot Date: 2022-01-16 13:55:18 -0500 (Sun, 16 Jan 2022)
git_url: https://git.bioconductor.org/packages/scTensor
git_branch: master
git_last_commit: 642ea01
git_last_commit_date: 2021-12-16 01:05:05 -0500 (Thu, 16 Dec 2021)
nebbiolo1Linux (Ubuntu 20.04.4 LTS) / x86_64  OK    OK    OK  UNNEEDED, same version is already published
riesling1Windows Server 2019 Standard / x64  OK    OK    OK    OK  
palomino3Windows Server 2022 Datacenter / x64  OK    OK    OK    OK  NO, package depends on 'S4Vectors' which is not available
merida1macOS 10.14.6 Mojave / x86_64  OK    OK    OK    OK  NO, package depends on 'ReactomePA' which is not available

Summary

Package: scTensor
Version: 2.5.1
Command: D:\biocbuild\bbs-3.15-bioc\R\bin\R.exe CMD check --no-multiarch --install=check:scTensor.install-out.txt --library=D:\biocbuild\bbs-3.15-bioc\R\library --no-vignettes --timings scTensor_2.5.1.tar.gz
StartedAt: 2022-01-16 20:06:38 -0500 (Sun, 16 Jan 2022)
EndedAt: 2022-01-16 20:11:20 -0500 (Sun, 16 Jan 2022)
EllapsedTime: 282.2 seconds
RetCode: 0
Status:   OK  
CheckDir: scTensor.Rcheck
Warnings: 0

Command output

##############################################################################
##############################################################################
###
### Running command:
###
###   D:\biocbuild\bbs-3.15-bioc\R\bin\R.exe CMD check --no-multiarch --install=check:scTensor.install-out.txt --library=D:\biocbuild\bbs-3.15-bioc\R\library --no-vignettes --timings scTensor_2.5.1.tar.gz
###
##############################################################################
##############################################################################


* using log directory 'D:/biocbuild/bbs-3.15-bioc/meat/scTensor.Rcheck'
* using R Under development (unstable) (2021-11-21 r81221)
* using platform: x86_64-w64-mingw32 (64-bit)
* using session charset: ISO8859-1
* using option '--no-vignettes'
* checking for file 'scTensor/DESCRIPTION' ... OK
* checking extension type ... Package
* this is package 'scTensor' version '2.5.1'
* checking package namespace information ... OK
* checking package dependencies ... OK
* checking if this is a source package ... OK
* checking if there is a namespace ... OK
* checking for hidden files and directories ... OK
* checking for portable file names ... OK
* checking whether package 'scTensor' can be installed ... OK
* checking installed package size ... OK
* checking package directory ... OK
* checking 'build' directory ... OK
* checking DESCRIPTION meta-information ... OK
* checking top-level files ... OK
* checking for left-over files ... OK
* checking index information ... OK
* checking package subdirectories ... OK
* checking R files for non-ASCII characters ... OK
* checking R files for syntax errors ... OK
* checking whether the package can be loaded ... OK
* checking whether the package can be loaded with stated dependencies ... OK
* checking whether the package can be unloaded cleanly ... OK
* checking whether the namespace can be loaded with stated dependencies ... OK
* checking whether the namespace can be unloaded cleanly ... OK
* checking dependencies in R code ... OK
* checking S3 generic/method consistency ... OK
* checking replacement functions ... OK
* checking foreign function calls ... OK
* checking R code for possible problems ... NOTE
.simulateDropoutCounts: no visible binding for global variable 'v'
.simulateDropoutCounts: no visible binding for global variable 'm'
Undefined global functions or variables:
  m v
* checking Rd files ... OK
* checking Rd metadata ... OK
* checking Rd cross-references ... OK
* checking for missing documentation entries ... OK
* checking for code/documentation mismatches ... OK
* checking Rd \usage sections ... OK
* checking Rd contents ... OK
* checking for unstated dependencies in examples ... OK
* checking contents of 'data' directory ... OK
* checking data for non-ASCII characters ... OK
* checking data for ASCII and uncompressed saves ... OK
* checking files in 'vignettes' ... OK
* checking examples ... OK
* checking for unstated dependencies in 'tests' ... OK
* checking tests ...
  Running 'testthat.R'
 OK
* checking for unstated dependencies in vignettes ... OK
* checking package vignettes in 'inst/doc' ... OK
* checking running R code from vignettes ... SKIPPED
* checking re-building of vignette outputs ... SKIPPED
* checking PDF version of manual ... OK
* DONE

Status: 1 NOTE
See
  'D:/biocbuild/bbs-3.15-bioc/meat/scTensor.Rcheck/00check.log'
for details.



Installation output

scTensor.Rcheck/00install.out

##############################################################################
##############################################################################
###
### Running command:
###
###   D:\biocbuild\bbs-3.15-bioc\R\bin\R.exe CMD INSTALL scTensor
###
##############################################################################
##############################################################################


* installing to library 'D:/biocbuild/bbs-3.15-bioc/R/library'
* installing *source* package 'scTensor' ...
** using staged installation
** R
** data
** inst
** byte-compile and prepare package for lazy loading
Creating a new generic function for 'show' in package 'scTensor'
** help
*** installing help indices
  converting help for package 'scTensor'
    finding HTML links ... done
    CCSParams-class                         html  
    GermMale                                html  
    cellCellDecomp                          html  
    cellCellRanks                           html  
    cellCellReport                          html  
    cellCellSetting                         html  
    cellCellSimulate                        html  
    getParam                                html  
    labelGermMale                           html  
    m                                       html  
    newCCSParams                            html  
    scTensor-package                        html  
    setParam                                html  
    tsneGermMale                            html  
    v                                       html  
** building package indices
** installing vignettes
** testing if installed package can be loaded from temporary location
** testing if installed package can be loaded from final location
** testing if installed package keeps a record of temporary installation path
* DONE (scTensor)
Making 'packages.html' ...Warning in packageDescription(i, lib.loc = lib, fields = "Title", encoding = "UTF-8") :
  DESCRIPTION file of package 'Organism.dplyr' is missing or broken
Warning in packageDescription(i, lib.loc = lib, fields = "Title", encoding = "UTF-8") :
  DESCRIPTION file of package 'RGMQL' is missing or broken
 done

Tests output

scTensor.Rcheck/tests/testthat.Rout


R Under development (unstable) (2021-11-21 r81221) -- "Unsuffered Consequences"
Copyright (C) 2021 The R Foundation for Statistical Computing
Platform: x86_64-w64-mingw32/x64 (64-bit)

R is free software and comes with ABSOLUTELY NO WARRANTY.
You are welcome to redistribute it under certain conditions.
Type 'license()' or 'licence()' for distribution details.

R is a collaborative project with many contributors.
Type 'contributors()' for more information and
'citation()' on how to cite R or R packages in publications.

Type 'demo()' for some demos, 'help()' for on-line help, or
'help.start()' for an HTML browser interface to help.
Type 'q()' to quit R.

> library("testthat")
> library("scTensor")

> 
> options(testthat.use_colours = FALSE)
> 
> test_file("testthat/test_GermMale.R")

== Testing test_GermMale.R =====================================================

[ FAIL 0 | WARN 0 | SKIP 0 | PASS 0 ]
[ FAIL 0 | WARN 0 | SKIP 0 | PASS 0 ]
[ FAIL 1 | WARN 0 | SKIP 0 | PASS 0 ]

-- Failure (test_GermMale.R:5:1): (code run outside of `test_that()`) ----------
dim(GermMale) not equivalent to c(2547, 852).
1/2 mismatches
[1] 242 - 2547 == -2305


[ FAIL 1 | WARN 0 | SKIP 0 | PASS 0 ]
> test_file("testthat/test_tsneGermMale.R")

== Testing test_tsneGermMale.R =================================================

[ FAIL 0 | WARN 0 | SKIP 0 | PASS 0 ]
[ FAIL 0 | WARN 0 | SKIP 0 | PASS 0 ]
[ FAIL 0 | WARN 0 | SKIP 0 | PASS 1 ] Done!
> test_file("testthat/test_labelGermMale.R")

== Testing test_labelGermMale.R ================================================

[ FAIL 0 | WARN 0 | SKIP 0 | PASS 0 ]
[ FAIL 0 | WARN 0 | SKIP 0 | PASS 0 ]
[ FAIL 0 | WARN 0 | SKIP 0 | PASS 1 ] Done!
> test_file("testthat/test_cellCellFunctions.R")

== Testing test_cellCellFunctions.R ============================================

[ FAIL 0 | WARN 0 | SKIP 0 | PASS 0 ]
[ FAIL 0 | WARN 0 | SKIP 0 | PASS 0 ]
[ FAIL 1 | WARN 0 | SKIP 0 | PASS 0 ]

-- Error (test_cellCellFunctions.R:4:1): (code run outside of `test_that()`) ---
<packageNotFoundError/error/condition>
Error in `library(LRBase.Hsa.eg.db)`: there is no package called 'LRBase.Hsa.eg.db'
Backtrace:
 1. base::library(LRBase.Hsa.eg.db) test_cellCellFunctions.R:4:0


[ FAIL 1 | WARN 0 | SKIP 0 | PASS 0 ]
> test_file("testthat/test_CCSParamsFunctions.R")

== Testing test_CCSParamsFunctions.R ===========================================

[ FAIL 0 | WARN 0 | SKIP 0 | PASS 0 ]
[ FAIL 0 | WARN 0 | SKIP 0 | PASS 0 ]
[ FAIL 0 | WARN 0 | SKIP 0 | PASS 1 ]
[ FAIL 0 | WARN 0 | SKIP 0 | PASS 2 ]
[ FAIL 0 | WARN 0 | SKIP 0 | PASS 3 ]
[ FAIL 0 | WARN 0 | SKIP 0 | PASS 4 ]
[ FAIL 0 | WARN 0 | SKIP 0 | PASS 5 ]
[ FAIL 0 | WARN 0 | SKIP 0 | PASS 6 ]
[ FAIL 0 | WARN 0 | SKIP 0 | PASS 7 ]
[ FAIL 0 | WARN 0 | SKIP 0 | PASS 8 ]
[ FAIL 0 | WARN 0 | SKIP 0 | PASS 9 ]
[ FAIL 0 | WARN 0 | SKIP 0 | PASS 10 ]
[ FAIL 0 | WARN 0 | SKIP 0 | PASS 11 ] Done!
> 
> proc.time()
   user  system elapsed 
  12.95    1.34   14.31 

Example timings

scTensor.Rcheck/scTensor-Ex.timings

nameusersystemelapsed
GermMale0.020.000.01
cellCellDecomp000
cellCellRanks000
cellCellReport000
cellCellSetting0.020.000.01
cellCellSimulate000
getParam000
labelGermMale000
m000
newCCSParams000
scTensor-package0.010.000.02
setParam000
tsneGermMale000
v000