Back to Multiple platform build/check report for BioC 3.15
ABCDEFGHIJKLMNOPQR[S]TUVWXYZ

This page was generated on 2022-01-17 11:08:22 -0500 (Mon, 17 Jan 2022).

HostnameOSArch (*)R versionInstalled pkgs
nebbiolo1Linux (Ubuntu 20.04.4 LTS)x86_64R Under development (unstable) (2022-01-05 r81451) -- "Unsuffered Consequences" 4161
riesling1Windows Server 2019 Standardx64R Under development (unstable) (2021-11-21 r81221) -- "Unsuffered Consequences" 4056
palomino3Windows Server 2022 Datacenterx64R Under development (unstable) (2021-12-21 r81400 ucrt) -- "Unsuffered Consequences" 3998
merida1macOS 10.14.6 Mojavex86_64R Under development (unstable) (2022-01-05 r81451) -- "Unsuffered Consequences" 4115
Click on any hostname to see more info about the system (e.g. compilers)      (*) as reported by 'uname -p', except on Windows and Mac OS X

BUILD BIN results for scTensor on riesling1


To the developers/maintainers of the scTensor package:
- Please allow up to 24 hours (and sometimes 48 hours) for your latest push to git@git.bioconductor.org:packages/scTensor.git to
reflect on this report. See How and When does the builder pull? When will my changes propagate? here for more information.
- Make sure to use the following settings in order to reproduce any error or warning you see on this page.

raw results

Package 1741/2074HostnameOS / ArchINSTALLBUILDCHECKBUILD BIN
scTensor 2.5.1  (landing page)
Koki Tsuyuzaki
Snapshot Date: 2022-01-16 13:55:18 -0500 (Sun, 16 Jan 2022)
git_url: https://git.bioconductor.org/packages/scTensor
git_branch: master
git_last_commit: 642ea01
git_last_commit_date: 2021-12-16 01:05:05 -0500 (Thu, 16 Dec 2021)
nebbiolo1Linux (Ubuntu 20.04.4 LTS) / x86_64  OK    OK    OK  UNNEEDED, same version is already published
riesling1Windows Server 2019 Standard / x64  OK    OK    OK    OK  
palomino3Windows Server 2022 Datacenter / x64  OK    OK    OK    OK  NO, package depends on 'S4Vectors' which is not available
merida1macOS 10.14.6 Mojave / x86_64  OK    OK    OK    OK  NO, package depends on 'ReactomePA' which is not available

Summary

Package: scTensor
Version: 2.5.1
Command: rm -rf scTensor.buildbin-libdir && mkdir scTensor.buildbin-libdir && D:\biocbuild\bbs-3.15-bioc\R\bin\R.exe CMD INSTALL --build --library=scTensor.buildbin-libdir scTensor_2.5.1.tar.gz
StartedAt: 2022-01-16 21:23:57 -0500 (Sun, 16 Jan 2022)
EndedAt: 2022-01-16 21:25:14 -0500 (Sun, 16 Jan 2022)
EllapsedTime: 76.7 seconds
RetCode: 0
Status:   OK  
PackageFile: scTensor_2.5.1.zip
PackageFileSize: 5.69 MiB

Command output

##############################################################################
##############################################################################
###
### Running command:
###
###   rm -rf scTensor.buildbin-libdir && mkdir scTensor.buildbin-libdir && D:\biocbuild\bbs-3.15-bioc\R\bin\R.exe CMD INSTALL --build --library=scTensor.buildbin-libdir scTensor_2.5.1.tar.gz
###
##############################################################################
##############################################################################


* installing *source* package 'scTensor' ...
** using staged installation
** R
** data
** inst
** byte-compile and prepare package for lazy loading
Creating a new generic function for 'show' in package 'scTensor'
** help
*** installing help indices
  converting help for package 'scTensor'
    finding HTML links ... done
    CCSParams-class                         html  
    GermMale                                html  
    cellCellDecomp                          html  
    cellCellRanks                           html  
    cellCellReport                          html  
    cellCellSetting                         html  
    cellCellSimulate                        html  
    getParam                                html  
    labelGermMale                           html  
    m                                       html  
    newCCSParams                            html  
    scTensor-package                        html  
    setParam                                html  
    tsneGermMale                            html  
    v                                       html  
** building package indices
** installing vignettes
** testing if installed package can be loaded from temporary location
** testing if installed package can be loaded from final location
** testing if installed package keeps a record of temporary installation path
* MD5 sums
packaged installation of 'scTensor' as scTensor_2.5.1.zip
* DONE (scTensor)