Index of /checkResults/devel/bioc-LATEST/scTensor/raw-results
Name
Last modified
Size
Description
Parent Directory
-
info.dcf
17-May-2022 00:08
276
lconway/
17-May-2022 00:08
-
nebbiolo2/
17-May-2022 00:05
-
palomino4/
17-May-2022 00:06
-