Name | Last modified | Size | Description | |
---|---|---|---|---|
Parent Directory | - | |||
checksrc-out.txt | 12-Jun-2024 04:41 | 3.4K | ||
buildbin-out.txt | 12-Jun-2024 04:41 | 1.1K | ||
install-out.txt | 12-Jun-2024 04:41 | 968 | ||
buildsrc-out.txt | 12-Jun-2024 04:41 | 927 | ||
buildbin-summary.dcf | 12-Jun-2024 04:41 | 510 | ||
buildsrc-summary.dcf | 12-Jun-2024 04:41 | 449 | ||
checksrc-summary.dcf | 12-Jun-2024 04:41 | 443 | ||
install-summary.dcf | 12-Jun-2024 04:41 | 266 | ||