Name | Last modified | Size | Description | |
---|---|---|---|---|
Parent Directory | - | |||
buildsrc-out.txt | 28-Jul-2024 00:39 | 921 | ||
buildsrc-summary.dcf | 28-Jul-2024 00:39 | 420 | ||
checksrc-out.txt | 28-Jul-2024 00:39 | 3.4K | ||
checksrc-summary.dcf | 28-Jul-2024 00:39 | 410 | ||
install-out.txt | 28-Jul-2024 00:39 | 957 | ||
install-summary.dcf | 28-Jul-2024 00:39 | 257 | ||