Name | Last modified | Size | Description | |
---|---|---|---|---|
Parent Directory | - | |||
buildsrc-out.txt | 09-Jul-2024 00:45 | 885 | ||
buildsrc-summary.dcf | 09-Jul-2024 00:45 | 402 | ||
checksrc-out.txt | 09-Jul-2024 00:45 | 3.5K | ||
checksrc-summary.dcf | 09-Jul-2024 00:45 | 401 | ||
install-out.txt | 07-Jul-2024 00:45 | 939 | ||
install-summary.dcf | 07-Jul-2024 00:45 | 245 | ||