Back to Multiple platform build/check report for BioC 3.15
ABCDEFGHIJKLMNOPQR[S]TUVWXYZ

This page was generated on 2022-01-22 11:06:35 -0500 (Sat, 22 Jan 2022).

HostnameOSArch (*)R versionInstalled pkgs
nebbiolo1Linux (Ubuntu 20.04.4 LTS)x86_64R Under development (unstable) (2022-01-05 r81451) -- "Unsuffered Consequences" 4163
riesling1Windows Server 2019 Standardx64R Under development (unstable) (2021-11-21 r81221) -- "Unsuffered Consequences" 4058
palomino3Windows Server 2022 Datacenterx64R Under development (unstable) (2021-12-21 r81400 ucrt) -- "Unsuffered Consequences" 4000
merida1macOS 10.14.6 Mojavex86_64R Under development (unstable) (2022-01-05 r81451) -- "Unsuffered Consequences" 4117
Click on any hostname to see more info about the system (e.g. compilers)      (*) as reported by 'uname -p', except on Windows and Mac OS X

CHECK results for scTGIF on nebbiolo1


To the developers/maintainers of the scTGIF package:
- Please allow up to 24 hours (and sometimes 48 hours) for your latest push to git@git.bioconductor.org:packages/scTGIF.git to
reflect on this report. See How and When does the builder pull? When will my changes propagate? here for more information.
- Make sure to use the following settings in order to reproduce any error or warning you see on this page.

raw results

Package 1743/2075HostnameOS / ArchINSTALLBUILDCHECKBUILD BIN
scTGIF 1.9.0  (landing page)
Koki Tsuyuzaki
Snapshot Date: 2022-01-21 13:55:18 -0500 (Fri, 21 Jan 2022)
git_url: https://git.bioconductor.org/packages/scTGIF
git_branch: master
git_last_commit: 3f1c0d8
git_last_commit_date: 2021-10-26 12:55:54 -0500 (Tue, 26 Oct 2021)
nebbiolo1Linux (Ubuntu 20.04.4 LTS) / x86_64  OK    OK    OK  UNNEEDED, same version is already published
riesling1Windows Server 2019 Standard / x64  OK    OK    NA    NA  
palomino3Windows Server 2022 Datacenter / x64  OK    OK    OK    OK  NO, package depends on 'GSEABase' which is not available
merida1macOS 10.14.6 Mojave / x86_64  OK    ERROR  skippedskipped

Summary

Package: scTGIF
Version: 1.9.0
Command: /home/biocbuild/bbs-3.15-bioc/R/bin/R CMD check --install=check:scTGIF.install-out.txt --library=/home/biocbuild/bbs-3.15-bioc/R/library --no-vignettes --timings scTGIF_1.9.0.tar.gz
StartedAt: 2022-01-21 21:00:45 -0500 (Fri, 21 Jan 2022)
EndedAt: 2022-01-21 21:05:07 -0500 (Fri, 21 Jan 2022)
EllapsedTime: 262.7 seconds
RetCode: 0
Status:   OK  
CheckDir: scTGIF.Rcheck
Warnings: 0

Command output

##############################################################################
##############################################################################
###
### Running command:
###
###   /home/biocbuild/bbs-3.15-bioc/R/bin/R CMD check --install=check:scTGIF.install-out.txt --library=/home/biocbuild/bbs-3.15-bioc/R/library --no-vignettes --timings scTGIF_1.9.0.tar.gz
###
##############################################################################
##############################################################################


* using log directory ‘/home/biocbuild/bbs-3.15-bioc/meat/scTGIF.Rcheck’
* using R Under development (unstable) (2022-01-05 r81451)
* using platform: x86_64-pc-linux-gnu (64-bit)
* using session charset: UTF-8
* using option ‘--no-vignettes’
* checking for file ‘scTGIF/DESCRIPTION’ ... OK
* checking extension type ... Package
* this is package ‘scTGIF’ version ‘1.9.0’
* checking package namespace information ... OK
* checking package dependencies ... OK
* checking if this is a source package ... OK
* checking if there is a namespace ... OK
* checking for hidden files and directories ... OK
* checking for portable file names ... OK
* checking for sufficient/correct file permissions ... OK
* checking whether package ‘scTGIF’ can be installed ... OK
* checking installed package size ... OK
* checking package directory ... OK
* checking ‘build’ directory ... OK
* checking DESCRIPTION meta-information ... OK
* checking top-level files ... OK
* checking for left-over files ... OK
* checking index information ... OK
* checking package subdirectories ... OK
* checking R files for non-ASCII characters ... OK
* checking R files for syntax errors ... OK
* checking whether the package can be loaded ... OK
* checking whether the package can be loaded with stated dependencies ... OK
* checking whether the package can be unloaded cleanly ... OK
* checking whether the namespace can be loaded with stated dependencies ... OK
* checking whether the namespace can be unloaded cleanly ... OK
* checking dependencies in R code ... NOTE
Unexported object imported by a ':::' call: ‘schex:::.make_hexbin_function’
  See the note in ?`:::` about the use of this operator.
* checking S3 generic/method consistency ... OK
* checking replacement functions ... OK
* checking foreign function calls ... OK
* checking R code for possible problems ... OK
* checking Rd files ... OK
* checking Rd metadata ... OK
* checking Rd cross-references ... OK
* checking for missing documentation entries ... OK
* checking for code/documentation mismatches ... OK
* checking Rd \usage sections ... OK
* checking Rd contents ... OK
* checking for unstated dependencies in examples ... OK
* checking contents of ‘data’ directory ... OK
* checking data for non-ASCII characters ... OK
* checking data for ASCII and uncompressed saves ... OK
* checking files in ‘vignettes’ ... OK
* checking examples ... OK
* checking for unstated dependencies in ‘tests’ ... OK
* checking tests ...
  Running ‘testthat.R’
 OK
* checking for unstated dependencies in vignettes ... OK
* checking package vignettes in ‘inst/doc’ ... OK
* checking running R code from vignettes ... SKIPPED
* checking re-building of vignette outputs ... SKIPPED
* checking PDF version of manual ... OK
* DONE

Status: 1 NOTE
See
  ‘/home/biocbuild/bbs-3.15-bioc/meat/scTGIF.Rcheck/00check.log’
for details.



Installation output

scTGIF.Rcheck/00install.out

##############################################################################
##############################################################################
###
### Running command:
###
###   /home/biocbuild/bbs-3.15-bioc/R/bin/R CMD INSTALL scTGIF
###
##############################################################################
##############################################################################


* installing to library ‘/home/biocbuild/bbs-3.15-bioc/R/library’
* installing *source* package ‘scTGIF’ ...
** using staged installation
** R
** data
** inst
** byte-compile and prepare package for lazy loading
** help
*** installing help indices
** building package indices
** installing vignettes
** testing if installed package can be loaded from temporary location
** testing if installed package can be loaded from final location
** testing if installed package keeps a record of temporary installation path
* DONE (scTGIF)

Tests output

scTGIF.Rcheck/tests/testthat.Rout


R Under development (unstable) (2022-01-05 r81451) -- "Unsuffered Consequences"
Copyright (C) 2022 The R Foundation for Statistical Computing
Platform: x86_64-pc-linux-gnu (64-bit)

R is free software and comes with ABSOLUTELY NO WARRANTY.
You are welcome to redistribute it under certain conditions.
Type 'license()' or 'licence()' for distribution details.

R is a collaborative project with many contributors.
Type 'contributors()' for more information and
'citation()' on how to cite R or R packages in publications.

Type 'demo()' for some demos, 'help()' for on-line help, or
'help.start()' for an HTML browser interface to help.
Type 'q()' to quit R.

> library("testthat")
> library("scTGIF")
> 
> options(testthat.use_colours = FALSE)
> 
> test_file("testthat/test_DistalLungEpithelium.R")

══ Testing test_DistalLungEpithelium.R ═════════════════════════════════════════

[ FAIL 0 | WARN 0 | SKIP 0 | PASS 0 ]
[ FAIL 0 | WARN 0 | SKIP 0 | PASS 0 ]
[ FAIL 0 | WARN 0 | SKIP 0 | PASS 1 ]
[ FAIL 0 | WARN 0 | SKIP 0 | PASS 2 ]
[ FAIL 0 | WARN 0 | SKIP 0 | PASS 3 ]
[ FAIL 0 | WARN 0 | SKIP 0 | PASS 4 ]
[ FAIL 0 | WARN 0 | SKIP 0 | PASS 5 ] Done!
> test_file("testthat/test_TGIFFunctions.R")

══ Testing test_TGIFFunctions.R ════════════════════════════════════════════════

[ FAIL 0 | WARN 0 | SKIP 0 | PASS 0 ]
[ FAIL 0 | WARN 0 | SKIP 0 | PASS 0 ]
[ FAIL 0 | WARN 0 | SKIP 0 | PASS 1 ]
[ FAIL 0 | WARN 0 | SKIP 0 | PASS 2 ]
[ FAIL 0 | WARN 0 | SKIP 0 | PASS 3 ] Done!
> test_file("testthat/test_convertRowID.R")

══ Testing test_convertRowID.R ═════════════════════════════════════════════════

[ FAIL 0 | WARN 0 | SKIP 0 | PASS 0 ]
[ FAIL 0 | WARN 0 | SKIP 0 | PASS 0 ]
  |                                                                            
  |                                                                      |   0%
  |                                                                            
  |==================                                                    |  25%
  |                                                                            
  |===================================                                   |  50%
  |                                                                            
  |====================================================                  |  75%
  |                                                                            
  |======================================================================| 100%

[ FAIL 0 | WARN 0 | SKIP 0 | PASS 1 ]
  |                                                                            
  |                                                                      |   0%
  |                                                                            
  |==================                                                    |  25%
  |                                                                            
  |===================================                                   |  50%
  |                                                                            
  |====================================================                  |  75%
  |                                                                            
  |======================================================================| 100%

[ FAIL 0 | WARN 0 | SKIP 0 | PASS 2 ]
[ FAIL 0 | WARN 0 | SKIP 0 | PASS 3 ]
[ FAIL 0 | WARN 0 | SKIP 0 | PASS 4 ]
[ FAIL 0 | WARN 0 | SKIP 0 | PASS 5 ]
  |                                                                            
  |                                                                      |   0%
  |                                                                            
  |==============                                                        |  20%
  |                                                                            
  |============================                                          |  40%
  |                                                                            
  |==========================================                            |  60%
  |                                                                            
  |========================================================              |  80%
  |                                                                            
  |======================================================================| 100%

[ FAIL 1 | WARN 0 | SKIP 0 | PASS 5 ]
  |                                                                            
  |                                                                      |   0%
  |                                                                            
  |==============                                                        |  20%
  |                                                                            
  |============================                                          |  40%
  |                                                                            
  |==========================================                            |  60%
  |                                                                            
  |========================================================              |  80%
  |                                                                            
  |======================================================================| 100%

[ FAIL 2 | WARN 0 | SKIP 0 | PASS 5 ]
[ FAIL 2 | WARN 1 | SKIP 0 | PASS 5 ]
[ FAIL 3 | WARN 1 | SKIP 0 | PASS 5 ]
[ FAIL 3 | WARN 2 | SKIP 0 | PASS 5 ]
[ FAIL 3 | WARN 2 | SKIP 0 | PASS 6 ]
[ FAIL 3 | WARN 3 | SKIP 0 | PASS 6 ]
[ FAIL 3 | WARN 3 | SKIP 0 | PASS 7 ]
  |                                                                            
  |                                                                      |   0%
  |                                                                            
  |=======================                                               |  33%
  |                                                                            
  |===============================================                       |  67%
  |                                                                            
  |======================================================================| 100%

[ FAIL 3 | WARN 3 | SKIP 0 | PASS 8 ]
  |                                                                            
  |                                                                      |   0%
  |                                                                            
  |=======================                                               |  33%
  |                                                                            
  |===============================================                       |  67%
  |                                                                            
  |======================================================================| 100%

[ FAIL 3 | WARN 3 | SKIP 0 | PASS 9 ]
[ FAIL 3 | WARN 3 | SKIP 0 | PASS 10 ]
[ FAIL 3 | WARN 3 | SKIP 0 | PASS 11 ]
[ FAIL 3 | WARN 3 | SKIP 0 | PASS 12 ]
  |                                                                            
  |                                                                      |   0%
  |                                                                            
  |==================                                                    |  25%
  |                                                                            
  |===================================                                   |  50%
  |                                                                            
  |====================================================                  |  75%
  |                                                                            
  |======================================================================| 100%

[ FAIL 4 | WARN 3 | SKIP 0 | PASS 12 ]
  |                                                                            
  |                                                                      |   0%
  |                                                                            
  |==================                                                    |  25%
  |                                                                            
  |===================================                                   |  50%
  |                                                                            
  |====================================================                  |  75%
  |                                                                            
  |======================================================================| 100%

[ FAIL 5 | WARN 3 | SKIP 0 | PASS 12 ]
[ FAIL 5 | WARN 4 | SKIP 0 | PASS 12 ]
[ FAIL 6 | WARN 4 | SKIP 0 | PASS 12 ]
[ FAIL 6 | WARN 5 | SKIP 0 | PASS 12 ]
[ FAIL 6 | WARN 5 | SKIP 0 | PASS 13 ]
[ FAIL 6 | WARN 6 | SKIP 0 | PASS 13 ]
[ FAIL 6 | WARN 6 | SKIP 0 | PASS 14 ]

── Failure (test_convertRowID.R:48:1): (code run outside of `test_that()`) ─────
identical(rownames(out$output), c("3", "2", "4", "7")) is not TRUE

`actual`:   FALSE
`expected`: TRUE 

── Failure (test_convertRowID.R:51:1): (code run outside of `test_that()`) ─────
identical(rownames(out$output), c("3", "2", "4", "7")) is not TRUE

`actual`:   FALSE
`expected`: TRUE 

── Warning (test_convertRowID.R:53:1): (code run outside of `test_that()`) ─────
number of items to replace is not a multiple of replacement length
Backtrace:
 1. scTGIF::convertRowID(input, rowID, LtoR, "large.mean") test_convertRowID.R:53:0
 2. scTGIF:::f(input, rowID, LtoR, score, unique.right)
 3. igraph::`E<-`(`*tmp*`, value = `*vtmp*`)
 4. igraph:::i_set_edge_attr(...)

── Failure (test_convertRowID.R:54:1): (code run outside of `test_that()`) ─────
identical(rownames(out$output), c("3", "2", "4", "7")) is not TRUE

`actual`:   FALSE
`expected`: TRUE 

── Warning (test_convertRowID.R:56:1): (code run outside of `test_that()`) ─────
number of items to replace is not a multiple of replacement length
Backtrace:
 1. scTGIF::convertRowID(input, rowID, LtoR, "large.var") test_convertRowID.R:56:0
 2. scTGIF:::f(input, rowID, LtoR, score, unique.right)
 3. igraph::`E<-`(`*tmp*`, value = `*vtmp*`)
 4. igraph:::i_set_edge_attr(...)

── Warning (test_convertRowID.R:59:1): (code run outside of `test_that()`) ─────
number of items to replace is not a multiple of replacement length
Backtrace:
 1. scTGIF::convertRowID(input, rowID, LtoR, "large.cv2") test_convertRowID.R:59:0
 2. scTGIF:::f(input, rowID, LtoR, score, unique.right)
 3. igraph::`E<-`(`*tmp*`, value = `*vtmp*`)
 4. igraph:::i_set_edge_attr(...)

── Failure (test_convertRowID.R:112:1): (code run outside of `test_that()`) ────
identical(rownames(out$output), c("5", "2", "7")) is not TRUE

`actual`:   FALSE
`expected`: TRUE 

── Failure (test_convertRowID.R:115:1): (code run outside of `test_that()`) ────
identical(rownames(out$output), c("5", "2", "7")) is not TRUE

`actual`:   FALSE
`expected`: TRUE 

── Warning (test_convertRowID.R:117:1): (code run outside of `test_that()`) ────
number of items to replace is not a multiple of replacement length
Backtrace:
 1. scTGIF::convertRowID(input, rowID, LtoR, "large.mean") test_convertRowID.R:117:0
 2. scTGIF:::f(input, rowID, LtoR, score, unique.right)
 3. igraph::`E<-`(`*tmp*`, value = `*vtmp*`)
 4. igraph:::i_set_edge_attr(...)

── Failure (test_convertRowID.R:118:1): (code run outside of `test_that()`) ────
identical(rownames(out$output), c("5", "2", "7")) is not TRUE

`actual`:   FALSE
`expected`: TRUE 

── Warning (test_convertRowID.R:120:1): (code run outside of `test_that()`) ────
number of items to replace is not a multiple of replacement length
Backtrace:
 1. scTGIF::convertRowID(input, rowID, LtoR, "large.var") test_convertRowID.R:120:0
 2. scTGIF:::f(input, rowID, LtoR, score, unique.right)
 3. igraph::`E<-`(`*tmp*`, value = `*vtmp*`)
 4. igraph:::i_set_edge_attr(...)

── Warning (test_convertRowID.R:123:1): (code run outside of `test_that()`) ────
number of items to replace is not a multiple of replacement length
Backtrace:
 1. scTGIF::convertRowID(input, rowID, LtoR, "large.cv2") test_convertRowID.R:123:0
 2. scTGIF:::f(input, rowID, LtoR, score, unique.right)
 3. igraph::`E<-`(`*tmp*`, value = `*vtmp*`)
 4. igraph:::i_set_edge_attr(...)


[ FAIL 6 | WARN 6 | SKIP 0 | PASS 14 ]
> test_file("testthat/test_cellMarkerToGmt.R")

══ Testing test_cellMarkerToGmt.R ══════════════════════════════════════════════

[ FAIL 0 | WARN 0 | SKIP 0 | PASS 0 ]
[ FAIL 0 | WARN 0 | SKIP 0 | PASS 0 ]
[ FAIL 0 | WARN 1 | SKIP 0 | PASS 0 ]
[ FAIL 0 | WARN 2 | SKIP 0 | PASS 0 ]
[ FAIL 0 | WARN 3 | SKIP 0 | PASS 0 ]
[ FAIL 0 | WARN 4 | SKIP 0 | PASS 0 ]
[ FAIL 0 | WARN 4 | SKIP 0 | PASS 1 ]
[ FAIL 0 | WARN 4 | SKIP 0 | PASS 2 ]
[ FAIL 0 | WARN 4 | SKIP 0 | PASS 3 ]
[ FAIL 0 | WARN 4 | SKIP 0 | PASS 4 ]
[ FAIL 0 | WARN 4 | SKIP 0 | PASS 5 ]
[ FAIL 0 | WARN 4 | SKIP 0 | PASS 6 ]
[ FAIL 0 | WARN 4 | SKIP 0 | PASS 7 ]
[ FAIL 0 | WARN 4 | SKIP 0 | PASS 8 ]
[ FAIL 0 | WARN 4 | SKIP 0 | PASS 9 ]
[ FAIL 0 | WARN 4 | SKIP 0 | PASS 10 ]
[ FAIL 0 | WARN 4 | SKIP 0 | PASS 11 ]
[ FAIL 0 | WARN 4 | SKIP 0 | PASS 12 ]
[ FAIL 0 | WARN 4 | SKIP 0 | PASS 13 ]
[ FAIL 0 | WARN 4 | SKIP 0 | PASS 14 ]
[ FAIL 0 | WARN 4 | SKIP 0 | PASS 15 ]
[ FAIL 0 | WARN 4 | SKIP 0 | PASS 16 ]

── Warning (test_cellMarkerToGmt.R:134:1): (code run outside of `test_that()`) ──
1 record(s) contain duplicate ids: Meniscus
Backtrace:
 1. GSEABase::getGmt(outfile2_1) test_cellMarkerToGmt.R:134:0
 2. GSEABase:::.warningf(...)

── Warning (test_cellMarkerToGmt.R:135:1): (code run outside of `test_that()`) ──
1 record(s) contain duplicate ids: Meniscus
Backtrace:
 1. GSEABase::getGmt(outfile2_2) test_cellMarkerToGmt.R:135:0
 2. GSEABase:::.warningf(...)

── Warning (test_cellMarkerToGmt.R:140:1): (code run outside of `test_that()`) ──
1 record(s) contain duplicate ids: Pancreas
Backtrace:
 1. GSEABase::getGmt(outfile3_1) test_cellMarkerToGmt.R:140:0
 2. GSEABase:::.warningf(...)

── Warning (test_cellMarkerToGmt.R:141:1): (code run outside of `test_that()`) ──
1 record(s) contain duplicate ids: Pancreas
Backtrace:
 1. GSEABase::getGmt(outfile3_2) test_cellMarkerToGmt.R:141:0
 2. GSEABase:::.warningf(...)


[ FAIL 0 | WARN 4 | SKIP 0 | PASS 16 ]
> 
> proc.time()
   user  system elapsed 
 14.737   1.007  15.629 

Example timings

scTGIF.Rcheck/scTGIF-Ex.timings

nameusersystemelapsed
DistalLungEpithelium0.0180.0040.022
calcTGIF0.0040.0000.004
cellMarkerToGmt0.2930.0520.342
convertRowID0.0340.0040.037
label.DistalLungEpithelium0.0020.0000.002
pca.DistalLungEpithelium0.0010.0000.001
reportTGIF0.0050.0000.005
settingTGIF0.0020.0000.001