Name | Last modified | Size | Description | |
---|---|---|---|---|
Parent Directory | - | |||
install-out.txt | 18-Jul-2024 00:39 | 16K | ||
checksrc-out.txt | 18-Jul-2024 00:39 | 8.9K | ||
buildsrc-out.txt | 18-Jul-2024 00:39 | 918 | ||
buildsrc-summary.dcf | 18-Jul-2024 00:39 | 418 | ||
checksrc-summary.dcf | 18-Jul-2024 00:39 | 408 | ||
install-summary.dcf | 18-Jul-2024 00:39 | 257 | ||