Name | Last modified | Size | Description | |
---|---|---|---|---|
Parent Directory | - | |||
buildsrc-out.txt | 29-Mar-2024 00:37 | 894 | ||
buildsrc-summary.dcf | 29-Mar-2024 00:37 | 413 | ||
checksrc-out.txt | 29-Mar-2024 00:37 | 9.0K | ||
checksrc-summary.dcf | 29-Mar-2024 00:37 | 408 | ||
install-out.txt | 29-Mar-2024 00:37 | 16K | ||
install-summary.dcf | 29-Mar-2024 00:37 | 257 | ||