Back to Multiple platform build/check report for BioC 3.15
ABCDEFGHIJKLMNOPQR[S]TUVWXYZ

This page was generated on 2021-11-30 13:55:13 -0500 (Tue, 30 Nov 2021).

BUILD results for scPCA on riesling1

To the developers/maintainers of the scPCA package:
- Please allow up to 24 hours (and sometimes 48 hours) for your latest push to git@git.bioconductor.org:packages/scPCA.git to
reflect on this report. See How and When does the builder pull? When will my changes propagate? here for more information.
- Make sure to use the following settings in order to reproduce any error or warning you see on this page.

raw results

Package 1726/2068HostnameOS / ArchINSTALLBUILDCHECKBUILD BIN
scPCA 1.9.0  (landing page)
Philippe Boileau
Snapshot Date: 2021-11-29 14:50:17 -0500 (Mon, 29 Nov 2021)
git_url: https://git.bioconductor.org/packages/scPCA
git_branch: master
git_last_commit: 0b0db46
git_last_commit_date: 2021-10-26 12:55:42 -0500 (Tue, 26 Oct 2021)
nebbiolo1Linux (Ubuntu 20.04.3 LTS) / x86_64  OK    OK    OK  UNNEEDED, same version is already published
riesling1Windows Server 2019 Standard / x64  OK    OK    OK    OK  
merida1macOS 10.14.6 Mojave / x86_64  OK    OK    OK    OK  UNNEEDED, same version is already published

Summary

Package: scPCA
Version: 1.9.0
Command: chmod a+r scPCA -R && D:\biocbuild\bbs-3.15-bioc\R\bin\R.exe CMD build --keep-empty-dirs --no-resave-data scPCA
StartedAt: 2021-11-29 23:49:39 -0500 (Mon, 29 Nov 2021)
EndedAt: 2021-11-29 23:53:54 -0500 (Mon, 29 Nov 2021)
EllapsedTime: 254.5 seconds
RetCode: 0
Status:   OK  
PackageFile: scPCA_1.9.0.tar.gz
PackageFileSize: 873.6 KiB

Command output

##############################################################################
##############################################################################
###
### Running command:
###
###   chmod a+r scPCA -R && D:\biocbuild\bbs-3.15-bioc\R\bin\R.exe CMD build --keep-empty-dirs --no-resave-data scPCA
###
##############################################################################
##############################################################################


* checking for file 'scPCA/DESCRIPTION' ... OK
* preparing 'scPCA':
* checking DESCRIPTION meta-information ... OK
* installing the package to process help pages
Loading required namespace: scPCA
* saving partial Rd database
* creating vignettes ... OK
* checking for LF line-endings in source and make files and shell scripts
* checking for empty or unneeded directories
* building 'scPCA_1.9.0.tar.gz'