Back to Multiple platform build/check report for BioC 3.15
ABCDEFGHIJKLMNOPQR[S]TUVWXYZ

This page was generated on 2021-11-30 13:55:13 -0500 (Tue, 30 Nov 2021).

BUILD BIN results for scPCA on riesling1

To the developers/maintainers of the scPCA package:
- Please allow up to 24 hours (and sometimes 48 hours) for your latest push to git@git.bioconductor.org:packages/scPCA.git to
reflect on this report. See How and When does the builder pull? When will my changes propagate? here for more information.
- Make sure to use the following settings in order to reproduce any error or warning you see on this page.

raw results

Package 1726/2068HostnameOS / ArchINSTALLBUILDCHECKBUILD BIN
scPCA 1.9.0  (landing page)
Philippe Boileau
Snapshot Date: 2021-11-29 14:50:17 -0500 (Mon, 29 Nov 2021)
git_url: https://git.bioconductor.org/packages/scPCA
git_branch: master
git_last_commit: 0b0db46
git_last_commit_date: 2021-10-26 12:55:42 -0500 (Tue, 26 Oct 2021)
nebbiolo1Linux (Ubuntu 20.04.3 LTS) / x86_64  OK    OK    OK  UNNEEDED, same version is already published
riesling1Windows Server 2019 Standard / x64  OK    OK    OK    OK  
merida1macOS 10.14.6 Mojave / x86_64  OK    OK    OK    OK  UNNEEDED, same version is already published

Summary

Package: scPCA
Version: 1.9.0
Command: rm -rf scPCA.buildbin-libdir && mkdir scPCA.buildbin-libdir && D:\biocbuild\bbs-3.15-bioc\R\bin\R.exe CMD INSTALL --merge-multiarch --build --library=scPCA.buildbin-libdir scPCA_1.9.0.tar.gz
StartedAt: 2021-11-30 08:17:04 -0500 (Tue, 30 Nov 2021)
EndedAt: 2021-11-30 08:22:01 -0500 (Tue, 30 Nov 2021)
EllapsedTime: 297.3 seconds
RetCode: 0
Status:   OK  
PackageFile: scPCA_1.9.0.zip
PackageFileSize: 935.8 KiB

Command output

##############################################################################
##############################################################################
###
### Running command:
###
###   rm -rf scPCA.buildbin-libdir && mkdir scPCA.buildbin-libdir && D:\biocbuild\bbs-3.15-bioc\R\bin\R.exe CMD INSTALL --merge-multiarch --build --library=scPCA.buildbin-libdir scPCA_1.9.0.tar.gz
###
##############################################################################
##############################################################################


only one architecture so ignoring '--merge-multiarch'
* installing *source* package 'scPCA' ...
** using staged installation
** R
** data
*** moving datasets to lazyload DB
** inst
** byte-compile and prepare package for lazy loading
** help
*** installing help indices
  converting help for package 'scPCA'
    finding HTML links ... done
    background_df                           html  
    bpContrastiveCov                        html  
    bpFitCPCA                               html  
    bpFitGrid                               html  
    checkArgs                               html  
    contrastiveCov                          html  
    covMat                                  html  
    cvSelectParams                          html  
    fitCPCA                                 html  
    fitGrid                                 html  
    safeColScale                            html  
    scPCA                                   html  
    selectParams                            html  
    spcaWrapper                             html  
    toy_df                                  html  
*** copying figures
** building package indices
** installing vignettes
** testing if installed package can be loaded from temporary location
** testing if installed package can be loaded from final location
** testing if installed package keeps a record of temporary installation path
* MD5 sums
packaged installation of 'scPCA' as scPCA_1.9.0.zip
* DONE (scPCA)