Name | Last modified | Size | Description | |
---|---|---|---|---|
Parent Directory | - | |||
buildsrc-out.txt | 05-Jun-2024 00:36 | 851 | ||
buildsrc-summary.dcf | 05-Jun-2024 00:36 | 416 | ||
checksrc-out.txt | 05-Jun-2024 00:36 | 4.7K | ||
checksrc-summary.dcf | 05-Jun-2024 00:36 | 404 | ||
install-out.txt | 05-Jun-2024 00:36 | 3.3M | ||
install-summary.dcf | 05-Jun-2024 00:36 | 255 | ||