Name | Last modified | Size | Description | |
---|---|---|---|---|
Parent Directory | - | |||
buildbin-out.txt | 05-Mar-2024 01:39 | 15K | ||
buildbin-summary.dcf | 05-Mar-2024 01:39 | 516 | ||
buildsrc-out.txt | 05-Mar-2024 01:39 | 837 | ||
buildsrc-summary.dcf | 05-Mar-2024 01:39 | 420 | ||
checksrc-out.txt | 05-Mar-2024 01:39 | 4.6K | ||
checksrc-summary.dcf | 05-Mar-2024 01:39 | 434 | ||
install-out.txt | 05-Mar-2024 01:39 | 12K | ||
install-summary.dcf | 05-Mar-2024 01:39 | 265 | ||