Name | Last modified | Size | Description | |
---|---|---|---|---|
Parent Directory | - | |||
buildbin-summary.dcf | 18-Jul-2024 00:41 | 516 | ||
buildbin-out.txt | 18-Jul-2024 00:41 | 15K | ||
checksrc-summary.dcf | 18-Jul-2024 00:41 | 434 | ||
checksrc-out.txt | 18-Jul-2024 00:41 | 4.7K | ||
buildsrc-summary.dcf | 18-Jul-2024 00:41 | 420 | ||
buildsrc-out.txt | 18-Jul-2024 00:41 | 837 | ||
install-summary.dcf | 18-Jul-2024 00:41 | 265 | ||
install-out.txt | 18-Jul-2024 00:41 | 12K | ||