Back to Multiple platform build/check report for BioC 3.19: simplified long |
|
This page was generated on 2024-03-04 11:39:54 -0500 (Mon, 04 Mar 2024).
Hostname | OS | Arch (*) | R version | Installed pkgs |
---|---|---|---|---|
nebbiolo1 | Linux (Ubuntu 22.04.3 LTS) | x86_64 | R Under development (unstable) (2024-01-16 r85808) -- "Unsuffered Consequences" | 4676 |
palomino3 | Windows Server 2022 Datacenter | x64 | R Under development (unstable) (2024-01-14 r85805 ucrt) -- "Unsuffered Consequences" | 4414 |
merida1 | macOS 12.7.1 Monterey | x86_64 | R Under development (unstable) (2024-01-16 r85808) -- "Unsuffered Consequences" | 4441 |
kunpeng2 | Linux (openEuler 22.03 LTS-SP1) | aarch64 | R Under development (unstable) (2024-01-16 r85812) -- "Unsuffered Consequences" | 4417 |
Click on any hostname to see more info about the system (e.g. compilers) (*) as reported by 'uname -p', except on Windows and Mac OS X |
Package 1862/2251 | Hostname | OS / Arch | INSTALL | BUILD | CHECK | BUILD BIN | ||||||||
scHOT 1.15.0 (landing page) Shila Ghazanfar
| nebbiolo1 | Linux (Ubuntu 22.04.3 LTS) / x86_64 | OK | OK | OK | |||||||||
palomino3 | Windows Server 2022 Datacenter / x64 | OK | OK | OK | OK | |||||||||
merida1 | macOS 12.7.1 Monterey / x86_64 | OK | OK | OK | OK | |||||||||
kunpeng2 | Linux (openEuler 22.03 LTS-SP1) / aarch64 | OK | OK | OK | ||||||||||
To the developers/maintainers of the scHOT package: - Allow up to 24 hours (and sometimes 48 hours) for your latest push to git@git.bioconductor.org:packages/scHOT.git to reflect on this report. See Troubleshooting Build Report for more information. - Use the following Renviron settings to reproduce errors and warnings. - If 'R CMD check' started to fail recently on the Linux builder(s) over a missing dependency, add the missing dependency to 'Suggests:' in your DESCRIPTION file. See Renviron.bioc for more information. |
Package: scHOT |
Version: 1.15.0 |
Command: /Library/Frameworks/R.framework/Resources/bin/R CMD check --install=check:scHOT.install-out.txt --library=/Library/Frameworks/R.framework/Resources/library --no-vignettes --timings scHOT_1.15.0.tar.gz |
StartedAt: 2024-03-02 10:15:22 -0500 (Sat, 02 Mar 2024) |
EndedAt: 2024-03-02 10:26:29 -0500 (Sat, 02 Mar 2024) |
EllapsedTime: 667.2 seconds |
RetCode: 0 |
Status: OK |
CheckDir: scHOT.Rcheck |
Warnings: 0 |
############################################################################## ############################################################################## ### ### Running command: ### ### /Library/Frameworks/R.framework/Resources/bin/R CMD check --install=check:scHOT.install-out.txt --library=/Library/Frameworks/R.framework/Resources/library --no-vignettes --timings scHOT_1.15.0.tar.gz ### ############################################################################## ############################################################################## * using log directory ‘/Users/biocbuild/bbs-3.19-bioc/meat/scHOT.Rcheck’ * using R Under development (unstable) (2024-01-16 r85808) * using platform: x86_64-apple-darwin20 * R was compiled by Apple clang version 14.0.0 (clang-1400.0.29.202) GNU Fortran (GCC) 12.2.0 * running under: macOS Monterey 12.7.1 * using session charset: UTF-8 * using option ‘--no-vignettes’ * checking for file ‘scHOT/DESCRIPTION’ ... OK * checking extension type ... Package * this is package ‘scHOT’ version ‘1.15.0’ * package encoding: UTF-8 * checking package namespace information ... OK * checking package dependencies ... OK * checking if this is a source package ... OK * checking if there is a namespace ... OK * checking for hidden files and directories ... OK * checking for portable file names ... OK * checking for sufficient/correct file permissions ... OK * checking whether package ‘scHOT’ can be installed ... OK * checking installed package size ... OK * checking package directory ... OK * checking ‘build’ directory ... OK * checking DESCRIPTION meta-information ... OK * checking top-level files ... OK * checking for left-over files ... OK * checking index information ... OK * checking package subdirectories ... OK * checking R files for non-ASCII characters ... OK * checking R files for syntax errors ... OK * checking whether the package can be loaded ... OK * checking whether the package can be loaded with stated dependencies ... OK * checking whether the package can be unloaded cleanly ... OK * checking whether the namespace can be loaded with stated dependencies ... OK * checking whether the namespace can be unloaded cleanly ... OK * checking dependencies in R code ... OK * checking S3 generic/method consistency ... OK * checking replacement functions ... OK * checking foreign function calls ... OK * checking R code for possible problems ... OK * checking Rd files ... OK * checking Rd metadata ... OK * checking Rd cross-references ... OK * checking for missing documentation entries ... OK * checking for code/documentation mismatches ... OK * checking Rd \usage sections ... OK * checking Rd contents ... OK * checking for unstated dependencies in examples ... OK * checking contents of ‘data’ directory ... OK * checking data for non-ASCII characters ... OK * checking LazyData ... OK * checking data for ASCII and uncompressed saves ... OK * checking files in ‘vignettes’ ... OK * checking examples ... OK Examples with CPU (user + system) or elapsed time > 5s user system elapsed scHOT 55.447 0.532 69.010 scHOT_estimatePvalues 54.516 0.574 65.024 scHOT_performPermutationTest 54.343 0.480 65.003 plotHigherOrderSequence 4.008 0.198 5.267 * checking for unstated dependencies in vignettes ... OK * checking package vignettes ... OK * checking running R code from vignettes ... SKIPPED * checking re-building of vignette outputs ... SKIPPED * checking PDF version of manual ... OK * DONE Status: OK
scHOT.Rcheck/00install.out
############################################################################## ############################################################################## ### ### Running command: ### ### /Library/Frameworks/R.framework/Resources/bin/R CMD INSTALL scHOT ### ############################################################################## ############################################################################## * installing to library ‘/Library/Frameworks/R.framework/Versions/4.4-x86_64/Resources/library’ * installing *source* package ‘scHOT’ ... ** using staged installation ** R ** data *** moving datasets to lazyload DB ** byte-compile and prepare package for lazy loading ** help *** installing help indices ** building package indices ** installing vignettes ** testing if installed package can be loaded from temporary location ** testing if installed package can be loaded from final location ** testing if installed package keeps a record of temporary installation path * DONE (scHOT)
scHOT.Rcheck/scHOT-Ex.timings
name | user | system | elapsed | |
params-set | 0.752 | 0.027 | 0.976 | |
plotColouredExpression | 2.381 | 0.055 | 3.047 | |
plotHigherOrderSequence | 4.008 | 0.198 | 5.267 | |
positionColData-set | 0.365 | 0.006 | 0.467 | |
positionType-set | 0.365 | 0.007 | 0.542 | |
scHOT | 55.447 | 0.532 | 69.010 | |
scHOT_addTestingScaffold | 0.407 | 0.013 | 0.528 | |
scHOT_buildFromMatrix | 0.345 | 0.017 | 0.445 | |
scHOT_buildFromSCE | 0.941 | 0.038 | 1.180 | |
scHOT_calculateGlobalHigherOrderFunction | 0.490 | 0.007 | 0.576 | |
scHOT_calculateHigherOrderTestStatistics | 1.103 | 0.011 | 1.323 | |
scHOT_estimatePvalues | 54.516 | 0.574 | 65.024 | |
scHOT_output-set | 0.350 | 0.005 | 0.422 | |
scHOT_performPermutationTest | 54.343 | 0.480 | 65.003 | |
scHOT_setPermutationScaffold | 0.504 | 0.007 | 0.596 | |
scHOT_setWeightMatrix | 0.457 | 0.005 | 0.540 | |
scHOT_stripOutput | 0.361 | 0.005 | 0.428 | |
spatialWeightMatrix | 0.008 | 0.001 | 0.012 | |
testingScaffold-set | 0.377 | 0.005 | 0.443 | |
thin | 0.018 | 0.002 | 0.024 | |
trajectoryWeightMatrix | 0.006 | 0.001 | 0.007 | |
weightMatrix-set | 0.685 | 0.027 | 0.842 | |
weightedPearson | 0.001 | 0.000 | 0.001 | |
weightedSpearman | 0.000 | 0.001 | 0.004 | |
weightedVariance | 0.001 | 0.000 | 0.001 | |
weightedZIKendall | 0.002 | 0.001 | 0.003 | |
weightedZISpearman | 0.001 | 0.001 | 0.003 | |