Name | Last modified | Size | Description | |
---|---|---|---|---|
Parent Directory | - | |||
buildbin-out.txt | 27-Jul-2024 00:40 | 1.2K | ||
buildbin-summary.dcf | 27-Jul-2024 00:40 | 563 | ||
buildsrc-out.txt | 27-Jul-2024 00:40 | 879 | ||
buildsrc-summary.dcf | 27-Jul-2024 00:40 | 485 | ||
checksrc-out.txt | 27-Jul-2024 00:40 | 3.9K | ||
checksrc-summary.dcf | 27-Jul-2024 00:40 | 479 | ||
install-out.txt | 27-Jul-2024 00:40 | 1.0K | ||
install-summary.dcf | 27-Jul-2024 00:40 | 284 | ||