Name | Last modified | Size | Description | |
---|---|---|---|---|
Parent Directory | - | |||
checksrc-summary.dcf | 28-Jul-2024 00:39 | 446 | ||
checksrc-out.txt | 28-Jul-2024 00:39 | 3.9K | ||
buildsrc-summary.dcf | 28-Jul-2024 00:39 | 448 | ||
buildsrc-out.txt | 28-Jul-2024 00:39 | 862 | ||
install-summary.dcf | 28-Jul-2024 00:39 | 274 | ||
install-out.txt | 28-Jul-2024 00:39 | 1.0K | ||