Name | Last modified | Size | Description | |
---|---|---|---|---|
Parent Directory | - | |||
install-summary.dcf | 07-Jul-2024 00:45 | 262 | ||
install-out.txt | 07-Jul-2024 00:45 | 1.0K | ||
checksrc-summary.dcf | 09-Jul-2024 00:45 | 437 | ||
checksrc-out.txt | 09-Jul-2024 00:45 | 3.9K | ||
buildsrc-summary.dcf | 09-Jul-2024 00:45 | 430 | ||
buildsrc-out.txt | 09-Jul-2024 00:45 | 826 | ||