Back to Multiple platform build/check report for BioC 3.14
ABCDEFGHIJKLMNOPQR[S]TUVWXYZ

This page was generated on 2021-10-23 14:06:44 -0400 (Sat, 23 Oct 2021).

BUILD BIN results for scDblFinder on riesling1

To the developers/maintainers of the scDblFinder package:
- Please allow up to 24 hours (and sometimes 48 hours) for your latest push to git@git.bioconductor.org:packages/scDblFinder.git to
reflect on this report. See How and When does the builder pull? When will my changes propagate? here for more information.
- Make sure to use the following settings in order to reproduce any error or warning you see on this page.

raw results

Package 1718/2083HostnameOS / ArchINSTALLBUILDCHECKBUILD BIN
scDblFinder 1.7.7  (landing page)
Pierre-Luc Germain
Snapshot Date: 2021-10-22 14:50:11 -0400 (Fri, 22 Oct 2021)
git_url: https://git.bioconductor.org/packages/scDblFinder
git_branch: master
git_last_commit: c006f4f
git_last_commit_date: 2021-09-28 09:33:38 -0400 (Tue, 28 Sep 2021)
nebbiolo2Linux (Ubuntu 20.04.2 LTS) / x86_64  OK    OK    OK  UNNEEDED, same version is already published
riesling1Windows Server 2019 Standard / x64  OK    OK    OK    OK  UNNEEDED, same version is already published
merida1macOS 10.14.6 Mojave / x86_64  OK    OK    OK    OK  UNNEEDED, same version is already published

Summary

Package: scDblFinder
Version: 1.7.7
Command: rm -rf scDblFinder.buildbin-libdir && mkdir scDblFinder.buildbin-libdir && D:\biocbuild\bbs-3.14-bioc\R\bin\R.exe CMD INSTALL --merge-multiarch --build --library=scDblFinder.buildbin-libdir scDblFinder_1.7.7.tar.gz
StartedAt: 2021-10-23 12:43:34 -0400 (Sat, 23 Oct 2021)
EndedAt: 2021-10-23 12:47:58 -0400 (Sat, 23 Oct 2021)
EllapsedTime: 264.1 seconds
RetCode: 0
Status:   OK  
PackageFile: scDblFinder_1.7.7.zip
PackageFileSize: 2.269 MiB

Command output

##############################################################################
##############################################################################
###
### Running command:
###
###   rm -rf scDblFinder.buildbin-libdir && mkdir scDblFinder.buildbin-libdir && D:\biocbuild\bbs-3.14-bioc\R\bin\R.exe CMD INSTALL --merge-multiarch --build --library=scDblFinder.buildbin-libdir scDblFinder_1.7.7.tar.gz
###
##############################################################################
##############################################################################



install for i386

* installing *source* package 'scDblFinder' ...
** using staged installation
** R
** data
** inst
** byte-compile and prepare package for lazy loading
** help
*** installing help indices
  converting help for package 'scDblFinder'
    finding HTML links ... done
    TFIDF                                   html  
    addDoublets                             html  
    aggregateFeatures                       html  
    clusterStickiness                       html  
    computeDoubletDensity                   html  
    finding level-2 HTML links ... done

    createDoublets                          html  
    cxds2                                   html  
    data                                    html  
    directDblClassification                 html  
    doubletPairwiseEnrichment               html  
    doubletThresholding                     html  
    fastcluster                             html  
    findDoubletClusters                     html  
    getArtificialDoublets                   html  
    getCellPairs                            html  
    getExpectedDoublets                     html  
    mockDoubletSCE                          html  
    plotDoubletMap                          html  
    plotThresholds                          html  
    propHomotypic                           html  
    recoverDoublets                         html  
    scDblFinder                             html  
    selFeatures                             html  
** building package indices
** installing vignettes
** testing if installed package can be loaded from temporary location
** testing if installed package can be loaded from final location
** testing if installed package keeps a record of temporary installation path

install for x64

* installing *source* package 'scDblFinder' ...
** testing if installed package can be loaded
* MD5 sums
packaged installation of 'scDblFinder' as scDblFinder_1.7.7.zip
* DONE (scDblFinder)