Index of /checkResults/devel/bioc-LATEST/scDblFinder/raw-results/nebbiolo1

[ICO]NameLast modifiedSizeDescription

[DIR]Parent Directory  -  
[TXT]buildsrc-out.txt05-Feb-2023 01:05 822  
[   ]buildsrc-summary.dcf05-Feb-2023 01:05 429  
[TXT]checksrc-out.txt05-Feb-2023 01:05 4.5K 
[   ]checksrc-summary.dcf05-Feb-2023 01:05 431  
[TXT]install-out.txt05-Feb-2023 01:05 959  
[   ]install-summary.dcf05-Feb-2023 01:05 267