Name | Last modified | Size | Description | |
---|---|---|---|---|
Parent Directory | - | |||
install-summary.dcf | 07-Jul-2024 00:45 | 255 | ||
install-out.txt | 07-Jul-2024 00:45 | 946 | ||
checksrc-summary.dcf | 16-May-2024 02:46 | 467 | ||
checksrc-out.txt | 16-May-2024 02:46 | 3.9K | ||
buildsrc-summary.dcf | 09-Jul-2024 00:45 | 330 | ||
buildsrc-out.txt | 09-Jul-2024 00:45 | 2.0K | ||