Index of /checkResults/devel/bioc-LATEST/scDblFinder/raw-results/kunpeng2
Name
Last modified
Size
Description
Parent Directory
-
buildsrc-out.txt
29-Mar-2024 00:41
2.1K
buildsrc-summary.dcf
29-Mar-2024 00:41
351
install-out.txt
29-Mar-2024 00:41
1.0K
install-summary.dcf
29-Mar-2024 00:41
276