Index of /checkResults/devel/bioc-LATEST/scDblFinder/raw-results
Name
Last modified
Size
Description
Parent Directory
-
palomino3/
05-Feb-2023 01:05
-
nebbiolo1/
05-Feb-2023 01:05
-
merida1/
05-Feb-2023 01:06
-
info.dcf
05-Feb-2023 01:06
290