Name | Last modified | Size | Description | |
---|---|---|---|---|
Parent Directory | - | |||
buildbin-out.txt | 12-Jun-2024 04:41 | 819K | ||
buildbin-summary.dcf | 12-Jun-2024 04:41 | 525 | ||
buildsrc-out.txt | 12-Jun-2024 04:41 | 1.0K | ||
buildsrc-summary.dcf | 12-Jun-2024 04:41 | 459 | ||
checksrc-out.txt | 12-Jun-2024 04:41 | 4.8K | ||
checksrc-summary.dcf | 12-Jun-2024 04:41 | 453 | ||
install-out.txt | 12-Jun-2024 04:41 | 819K | ||
install-summary.dcf | 12-Jun-2024 04:41 | 271 | ||