Index of /checkResults/devel/bioc-LATEST/scDDboost/raw-results/nebbiolo1

[ICO]NameLast modifiedSizeDescription

[DIR]Parent Directory  -  
[TXT]buildsrc-out.txt23-Feb-2024 02:48 938  
[   ]buildsrc-summary.dcf23-Feb-2024 02:48 421  
[TXT]checksrc-out.txt23-Feb-2024 02:48 4.3K 
[   ]checksrc-summary.dcf23-Feb-2024 02:48 420  
[TXT]install-out.txt23-Feb-2024 02:48 675K 
[   ]install-summary.dcf23-Feb-2024 02:48 262