Index of /checkResults/devel/bioc-LATEST/scDDboost/raw-results/merida1

[ICO]NameLast modifiedSizeDescription

[DIR]Parent Directory  -  
[TXT]buildbin-out.txt18-Feb-2024 16:29 66K 
[   ]buildbin-summary.dcf18-Feb-2024 16:29 540  
[TXT]buildsrc-out.txt18-Feb-2024 16:29 948  
[   ]buildsrc-summary.dcf18-Feb-2024 16:29 432  
[TXT]checksrc-out.txt18-Feb-2024 16:29 4.9K 
[   ]checksrc-summary.dcf18-Feb-2024 16:29 456  
[TXT]install-out.txt18-Feb-2024 16:29 64K 
[   ]install-summary.dcf18-Feb-2024 16:29 273