Back to Multiple platform build/check report for BioC 3.14
ABCDEFGHIJKLMNOPQR[S]TUVWXYZ

This page was generated on 2021-10-22 12:04:43 -0400 (Fri, 22 Oct 2021).

INSTALL results for scCB2 on riesling1

To the developers/maintainers of the scCB2 package:
- Please allow up to 24 hours (and sometimes 48 hours) for your latest push to git@git.bioconductor.org:packages/scCB2.git to
reflect on this report. See How and When does the builder pull? When will my changes propagate? here for more information.
- Make sure to use the following settings in order to reproduce any error or warning you see on this page.

raw results

Package 1707/2075HostnameOS / ArchINSTALLBUILDCHECKBUILD BIN
scCB2 1.3.0  (landing page)
Zijian Ni
Snapshot Date: 2021-10-21 14:50:08 -0400 (Thu, 21 Oct 2021)
git_url: https://git.bioconductor.org/packages/scCB2
git_branch: master
git_last_commit: 16b55f6
git_last_commit_date: 2021-05-19 12:53:46 -0400 (Wed, 19 May 2021)
nebbiolo2Linux (Ubuntu 20.04.2 LTS) / x86_64  OK    OK    OK  UNNEEDED, same version is already published
riesling1Windows Server 2019 Standard / x64  OK    OK    OK    OK  UNNEEDED, same version is already published
merida1macOS 10.14.6 Mojave / x86_64  OK    OK    OK    NA  

Summary

Package: scCB2
Version: 1.3.0
Command: C:\cygwin\bin\curl.exe -O http://155.52.207.166/BBS/3.14/bioc/src/contrib/scCB2_1.3.0.tar.gz && rm -rf scCB2.buildbin-libdir && mkdir scCB2.buildbin-libdir && D:\biocbuild\bbs-3.14-bioc\R\bin\R.exe CMD INSTALL --merge-multiarch --build --library=scCB2.buildbin-libdir scCB2_1.3.0.tar.gz && D:\biocbuild\bbs-3.14-bioc\R\bin\R.exe CMD INSTALL scCB2_1.3.0.zip && rm scCB2_1.3.0.tar.gz scCB2_1.3.0.zip
StartedAt: 2021-10-21 18:18:56 -0400 (Thu, 21 Oct 2021)
EndedAt: 2021-10-21 18:21:45 -0400 (Thu, 21 Oct 2021)
EllapsedTime: 168.7 seconds
RetCode: 0
Status:   OK  

Command output

##############################################################################
##############################################################################
###
### Running command:
###
###   C:\cygwin\bin\curl.exe -O http://155.52.207.166/BBS/3.14/bioc/src/contrib/scCB2_1.3.0.tar.gz && rm -rf scCB2.buildbin-libdir && mkdir scCB2.buildbin-libdir && D:\biocbuild\bbs-3.14-bioc\R\bin\R.exe CMD INSTALL --merge-multiarch --build --library=scCB2.buildbin-libdir scCB2_1.3.0.tar.gz && D:\biocbuild\bbs-3.14-bioc\R\bin\R.exe CMD INSTALL scCB2_1.3.0.zip && rm scCB2_1.3.0.tar.gz scCB2_1.3.0.zip
###
##############################################################################
##############################################################################


  % Total    % Received % Xferd  Average Speed   Time    Time     Time  Current
                                 Dload  Upload   Total   Spent    Left  Speed

  0     0    0     0    0     0      0      0 --:--:-- --:--:-- --:--:--     0
100  622k  100  622k    0     0  2340k      0 --:--:-- --:--:-- --:--:-- 2349k

install for i386

* installing *source* package 'scCB2' ...
** using staged installation
** R
** data
** inst
** byte-compile and prepare package for lazy loading
** help
*** installing help indices
  converting help for package 'scCB2'
    finding HTML links ... done
    CB2FindCell                             html  
    FilterGB                                html  
    GetCellMat                              html  
    QuickCB2                                html  
    Read10xRaw                              html  
    mbrainSub                               html  
** building package indices
** installing vignettes
** testing if installed package can be loaded from temporary location
** testing if installed package can be loaded from final location
** testing if installed package keeps a record of temporary installation path

install for x64

* installing *source* package 'scCB2' ...
** testing if installed package can be loaded
* MD5 sums
packaged installation of 'scCB2' as scCB2_1.3.0.zip
* DONE (scCB2)
* installing to library 'D:/biocbuild/bbs-3.14-bioc/R/library'
package 'scCB2' successfully unpacked and MD5 sums checked